BEGIN:VCALENDAR
VERSION:2.0
PRODID:-//Right at Home Franchise Opportunity - ECPv6.15.18//NONSGML v1.0//EN
CALSCALE:GREGORIAN
METHOD:PUBLISH
X-WR-CALNAME:Right at Home Franchise Opportunity
X-ORIGINAL-URL:https://rightathomefranchise.com
X-WR-CALDESC:Events for Right at Home Franchise Opportunity
REFRESH-INTERVAL;VALUE=DURATION:PT1H
X-Robots-Tag:noindex
X-PUBLISHED-TTL:PT1H
BEGIN:VTIMEZONE
TZID:America/Chicago
BEGIN:DAYLIGHT
TZOFFSETFROM:-0600
TZOFFSETTO:-0500
TZNAME:CDT
DTSTART:20250309T080000
END:DAYLIGHT
BEGIN:STANDARD
TZOFFSETFROM:-0500
TZOFFSETTO:-0600
TZNAME:CST
DTSTART:20251102T070000
END:STANDARD
BEGIN:DAYLIGHT
TZOFFSETFROM:-0600
TZOFFSETTO:-0500
TZNAME:CDT
DTSTART:20260308T080000
END:DAYLIGHT
BEGIN:STANDARD
TZOFFSETFROM:-0500
TZOFFSETTO:-0600
TZNAME:CST
DTSTART:20261101T070000
END:STANDARD
BEGIN:DAYLIGHT
TZOFFSETFROM:-0600
TZOFFSETTO:-0500
TZNAME:CDT
DTSTART:20270314T080000
END:DAYLIGHT
BEGIN:STANDARD
TZOFFSETFROM:-0500
TZOFFSETTO:-0600
TZNAME:CST
DTSTART:20271107T070000
END:STANDARD
END:VTIMEZONE
BEGIN:VEVENT
DTSTART;TZID=America/Chicago:20260331T140000
DTEND;TZID=America/Chicago:20260331T143000
DTSTAMP:20260422T232104
CREATED:20260105T180507Z
LAST-MODIFIED:20260105T194841Z
UID:45837-1774965600-1774967400@rightathomefranchise.com
SUMMARY:How Performance Groups Can Take Your Business to the Next Level
DESCRIPTION:Join us for a discussion with Daniel Bourne\, Right at Home’s Performance Group Coach\, as we explore how Right at Home helps franchisees grow and scale throughout the life of their business by offering access to performance groups. \nDaniel Bourne joined Right at Home in 2018. He plays a pivotal role in the growth and development of Right at Home offices nationwide and facilitates four of their Performance Groups. With nearly two decades of experience in franchising\, Daniel has held various roles\, including operating a company-owned location and coaching franchisees across multiple organizations. \nDaniel’s extensive background includes managing inventory for over 1\,000 Sprint stores and creating sales and customer service training programs delivered nationwide. Within his previous company\, he founded a merchandising service utilized by prominent companies such as Best Buy\, Walgreens\, CVS\, and Sprint. His sales team also leveraged this service to train subsidiaries and sell products globally. \nThroughout his career\, Daniel has been dedicated to helping business owners achieve their goals and dreams. He holds a Bachelor of Science in Business Administration with specializations in Banking and Business Finance. \nIf you are thinking about joining the Right at Home system\, we highly recommend you register and attend. This session will serve as a highly informative component of your due diligence with Right at Home. With invitations extended to only a select few individuals considering joining the Right at Home system\, you’ll have the opportunity to pose questions throughout the discussion. \nRegister Here
URL:https://rightathomefranchise.com/events/how-performance-groups-can-take-your-business-to-the-next-level/
ATTACH;FMTTYPE=image/png:https://rightathomefranchise.com/wp-content/uploads/2025/02/Daniel-Tuesday-Talk.png
END:VEVENT
END:VCALENDAR